BEGIN:VCALENDAR
VERSION:2.0
PRODID:-//Rochester Math &amp; Science Academy - ECPv6.15.18//NONSGML v1.0//EN
CALSCALE:GREGORIAN
METHOD:PUBLISH
X-ORIGINAL-URL:https://www.rmsacademy.org
X-WR-CALDESC:Events for Rochester Math &amp; Science Academy
REFRESH-INTERVAL;VALUE=DURATION:PT1H
X-Robots-Tag:noindex
X-PUBLISHED-TTL:PT1H
BEGIN:VTIMEZONE
TZID:America/Chicago
BEGIN:DAYLIGHT
TZOFFSETFROM:-0600
TZOFFSETTO:-0500
TZNAME:CDT
DTSTART:20240310T080000
END:DAYLIGHT
BEGIN:STANDARD
TZOFFSETFROM:-0500
TZOFFSETTO:-0600
TZNAME:CST
DTSTART:20241103T070000
END:STANDARD
BEGIN:DAYLIGHT
TZOFFSETFROM:-0600
TZOFFSETTO:-0500
TZNAME:CDT
DTSTART:20250309T080000
END:DAYLIGHT
BEGIN:STANDARD
TZOFFSETFROM:-0500
TZOFFSETTO:-0600
TZNAME:CST
DTSTART:20251102T070000
END:STANDARD
BEGIN:DAYLIGHT
TZOFFSETFROM:-0600
TZOFFSETTO:-0500
TZNAME:CDT
DTSTART:20260308T080000
END:DAYLIGHT
BEGIN:STANDARD
TZOFFSETFROM:-0500
TZOFFSETTO:-0600
TZNAME:CST
DTSTART:20261101T070000
END:STANDARD
END:VTIMEZONE
BEGIN:VEVENT
DTSTART;VALUE=DATE:20250312
DTEND;VALUE=DATE:20250313
DTSTAMP:20260421T063424
CREATED:20240808T161005Z
LAST-MODIFIED:20240808T161147Z
UID:10000147-1741737600-1741823999@www.rmsacademy.org
SUMMARY:Curriculum Planning Day - No Students
DESCRIPTION:
URL:https://www.rmsacademy.org/event/curriculum-planning-day-no-students-mar-2025/
LOCATION:Rochester Math and Science Academy\, 415 16th St SW\, Rochester\, 55902\, United States
CATEGORIES:Academic Calendar,No School
END:VEVENT
BEGIN:VEVENT
DTSTART;TZID=America/Chicago:20250326T153000
DTEND;TZID=America/Chicago:20250326T160000
DTSTAMP:20260421T063424
CREATED:20241011T170914Z
LAST-MODIFIED:20241011T170915Z
UID:10000176-1743003000-1743004800@www.rmsacademy.org
SUMMARY:School Board Meeting
DESCRIPTION:
URL:https://www.rmsacademy.org/event/rmsa-school-board-meeting-2/2025-03-26/
LOCATION:Rochester Math and Science Academy\, 415 16th St SW\, Rochester\, 55902\, United States
CATEGORIES:School Board Meeting
END:VEVENT
BEGIN:VEVENT
DTSTART;VALUE=DATE:20250327
DTEND;VALUE=DATE:20250328
DTSTAMP:20260421T063424
CREATED:20240808T161251Z
LAST-MODIFIED:20240808T161251Z
UID:10000148-1743033600-1743119999@www.rmsacademy.org
SUMMARY:End of Quarter 3
DESCRIPTION:
URL:https://www.rmsacademy.org/event/end-of-quarter-3-2025/
LOCATION:Rochester Math and Science Academy\, 415 16th St SW\, Rochester\, 55902\, United States
CATEGORIES:Academic Calendar,End of Quarter
END:VEVENT
BEGIN:VEVENT
DTSTART;TZID=America/Chicago:20250327T160000
DTEND;TZID=America/Chicago:20250327T180000
DTSTAMP:20260421T063424
CREATED:20240808T161325Z
LAST-MODIFIED:20240808T161401Z
UID:10000149-1743091200-1743098400@www.rmsacademy.org
SUMMARY:Conferences
DESCRIPTION:
URL:https://www.rmsacademy.org/event/conferences-spring-2025/
LOCATION:Rochester Math and Science Academy\, 415 16th St SW\, Rochester\, 55902\, United States
CATEGORIES:Academic Calendar,Conference Dates (Parent night)
END:VEVENT
BEGIN:VEVENT
DTSTART;VALUE=DATE:20250328
DTEND;VALUE=DATE:20250329
DTSTAMP:20260421T063424
CREATED:20240808T161445Z
LAST-MODIFIED:20240808T161501Z
UID:10000150-1743120000-1743206399@www.rmsacademy.org
SUMMARY:Teacher Work Day - No Students
DESCRIPTION:
URL:https://www.rmsacademy.org/event/teacher-work-day-no-students-mar-2025/
LOCATION:Rochester Math and Science Academy\, 415 16th St SW\, Rochester\, 55902\, United States
CATEGORIES:Academic Calendar,Work Day/PD Day (Students do not report)
END:VEVENT
BEGIN:VEVENT
DTSTART;VALUE=DATE:20250331
DTEND;VALUE=DATE:20250405
DTSTAMP:20260421T063424
CREATED:20240808T161545Z
LAST-MODIFIED:20240808T161545Z
UID:10000151-1743379200-1743811199@www.rmsacademy.org
SUMMARY:Spring Break - No School
DESCRIPTION:
URL:https://www.rmsacademy.org/event/spring-break-no-school-2025/
LOCATION:Rochester Math and Science Academy\, 415 16th St SW\, Rochester\, 55902\, United States
CATEGORIES:Academic Calendar,No School
END:VEVENT
END:VCALENDAR