BEGIN:VCALENDAR
VERSION:2.0
PRODID:-//Rochester Math &amp; Science Academy - ECPv6.15.18//NONSGML v1.0//EN
CALSCALE:GREGORIAN
METHOD:PUBLISH
X-WR-CALNAME:Rochester Math &amp; Science Academy
X-ORIGINAL-URL:https://www.rmsacademy.org
X-WR-CALDESC:Events for Rochester Math &amp; Science Academy
REFRESH-INTERVAL;VALUE=DURATION:PT1H
X-Robots-Tag:noindex
X-PUBLISHED-TTL:PT1H
BEGIN:VTIMEZONE
TZID:America/Chicago
BEGIN:DAYLIGHT
TZOFFSETFROM:-0600
TZOFFSETTO:-0500
TZNAME:CDT
DTSTART:20230312T080000
END:DAYLIGHT
BEGIN:STANDARD
TZOFFSETFROM:-0500
TZOFFSETTO:-0600
TZNAME:CST
DTSTART:20231105T070000
END:STANDARD
BEGIN:DAYLIGHT
TZOFFSETFROM:-0600
TZOFFSETTO:-0500
TZNAME:CDT
DTSTART:20240310T080000
END:DAYLIGHT
BEGIN:STANDARD
TZOFFSETFROM:-0500
TZOFFSETTO:-0600
TZNAME:CST
DTSTART:20241103T070000
END:STANDARD
BEGIN:DAYLIGHT
TZOFFSETFROM:-0600
TZOFFSETTO:-0500
TZNAME:CDT
DTSTART:20250309T080000
END:DAYLIGHT
BEGIN:STANDARD
TZOFFSETFROM:-0500
TZOFFSETTO:-0600
TZNAME:CST
DTSTART:20251102T070000
END:STANDARD
BEGIN:DAYLIGHT
TZOFFSETFROM:-0600
TZOFFSETTO:-0500
TZNAME:CDT
DTSTART:20260308T080000
END:DAYLIGHT
BEGIN:STANDARD
TZOFFSETFROM:-0500
TZOFFSETTO:-0600
TZNAME:CST
DTSTART:20261101T070000
END:STANDARD
END:VTIMEZONE
BEGIN:VEVENT
DTSTART;VALUE=DATE:20241223
DTEND;VALUE=DATE:20250104
DTSTAMP:20260421T094524
CREATED:20240807T214041Z
LAST-MODIFIED:20240807T214041Z
UID:10000138-1734912000-1735948799@www.rmsacademy.org
SUMMARY:Winterbreak - No School
DESCRIPTION:
URL:https://www.rmsacademy.org/event/winterbreak-no-school-2024/
LOCATION:Rochester Math and Science Academy\, 415 16th St SW\, Rochester\, 55902\, United States
CATEGORIES:Academic Calendar,No School
END:VEVENT
BEGIN:VEVENT
DTSTART;VALUE=DATE:20250106
DTEND;VALUE=DATE:20250215
DTSTAMP:20260421T094524
CREATED:20240808T155259Z
LAST-MODIFIED:20240808T155644Z
UID:10000140-1736121600-1739577599@www.rmsacademy.org
SUMMARY:Testing: DIBELS K-8
DESCRIPTION:
URL:https://www.rmsacademy.org/event/testing-dibels-k-8-winter-2025/
LOCATION:Rochester Math and Science Academy\, 415 16th St SW\, Rochester\, 55902\, United States
CATEGORIES:Academic Calendar,Testing Dates
END:VEVENT
BEGIN:VEVENT
DTSTART;VALUE=DATE:20250120
DTEND;VALUE=DATE:20250121
DTSTAMP:20260421T094524
CREATED:20240808T155149Z
LAST-MODIFIED:20240808T155149Z
UID:10000139-1737331200-1737417599@www.rmsacademy.org
SUMMARY:Martin Luther King Jr. Day - No School
DESCRIPTION:
URL:https://www.rmsacademy.org/event/martin-luther-king-jr-day-no-school-2025/
LOCATION:Rochester Math and Science Academy\, 415 16th St SW\, Rochester\, 55902\, United States
CATEGORIES:Academic Calendar,No School
END:VEVENT
BEGIN:VEVENT
DTSTART;TZID=America/Chicago:20250122T153000
DTEND;TZID=America/Chicago:20250122T160000
DTSTAMP:20260421T094524
CREATED:20241011T170914Z
LAST-MODIFIED:20241011T170915Z
UID:10000174-1737559800-1737561600@www.rmsacademy.org
SUMMARY:School Board Meeting
DESCRIPTION:
URL:https://www.rmsacademy.org/event/rmsa-school-board-meeting-2/2025-01-22/
LOCATION:Rochester Math and Science Academy\, 415 16th St SW\, Rochester\, 55902\, United States
CATEGORIES:School Board Meeting
END:VEVENT
BEGIN:VEVENT
DTSTART;VALUE=DATE:20250123
DTEND;VALUE=DATE:20250124
DTSTAMP:20260421T094524
CREATED:20240808T155847Z
LAST-MODIFIED:20240808T155907Z
UID:10000142-1737590400-1737676799@www.rmsacademy.org
SUMMARY:End of Quarter 2
DESCRIPTION:
URL:https://www.rmsacademy.org/event/end-of-quarter-2-2025/
LOCATION:Rochester Math and Science Academy\, 415 16th St SW\, Rochester\, 55902\, United States
CATEGORIES:Academic Calendar,End of Quarter
END:VEVENT
BEGIN:VEVENT
DTSTART;TZID=America/Chicago:20250123T160000
DTEND;TZID=America/Chicago:20250123T180000
DTSTAMP:20260421T094524
CREATED:20240808T155951Z
LAST-MODIFIED:20240808T160041Z
UID:10000143-1737648000-1737655200@www.rmsacademy.org
SUMMARY:Conferences
DESCRIPTION:
URL:https://www.rmsacademy.org/event/conferences-winter-2025/
LOCATION:Rochester Math and Science Academy\, 415 16th St SW\, Rochester\, 55902\, United States
CATEGORIES:Academic Calendar,Conference Dates (Parent night)
END:VEVENT
BEGIN:VEVENT
DTSTART;VALUE=DATE:20250124
DTEND;VALUE=DATE:20250125
DTSTAMP:20260421T094524
CREATED:20240808T160139Z
LAST-MODIFIED:20240808T160139Z
UID:10000144-1737676800-1737763199@www.rmsacademy.org
SUMMARY:Teacher Work Day - No Students
DESCRIPTION:
URL:https://www.rmsacademy.org/event/teacher-work-day-no-students-winter-2025/
CATEGORIES:Academic Calendar,Work Day/PD Day (Students do not report)
END:VEVENT
BEGIN:VEVENT
DTSTART;VALUE=DATE:20250127
DTEND;VALUE=DATE:20250208
DTSTAMP:20260421T094524
CREATED:20240808T155751Z
LAST-MODIFIED:20240808T155803Z
UID:10000141-1737936000-1738972799@www.rmsacademy.org
SUMMARY:Testing: Winter NWEA K-5
DESCRIPTION:
URL:https://www.rmsacademy.org/event/testing-winter-nwea-k-5-2025/
LOCATION:Rochester Math and Science Academy\, 415 16th St SW\, Rochester\, 55902\, United States
CATEGORIES:Academic Calendar,Testing Dates
END:VEVENT
END:VCALENDAR