BEGIN:VCALENDAR
VERSION:2.0
PRODID:-//Rochester Math &amp; Science Academy - ECPv6.15.18//NONSGML v1.0//EN
CALSCALE:GREGORIAN
METHOD:PUBLISH
X-WR-CALNAME:Rochester Math &amp; Science Academy
X-ORIGINAL-URL:https://www.rmsacademy.org
X-WR-CALDESC:Events for Rochester Math &amp; Science Academy
REFRESH-INTERVAL;VALUE=DURATION:PT1H
X-Robots-Tag:noindex
X-PUBLISHED-TTL:PT1H
BEGIN:VTIMEZONE
TZID:America/Chicago
BEGIN:DAYLIGHT
TZOFFSETFROM:-0600
TZOFFSETTO:-0500
TZNAME:CDT
DTSTART:20230312T080000
END:DAYLIGHT
BEGIN:STANDARD
TZOFFSETFROM:-0500
TZOFFSETTO:-0600
TZNAME:CST
DTSTART:20231105T070000
END:STANDARD
BEGIN:DAYLIGHT
TZOFFSETFROM:-0600
TZOFFSETTO:-0500
TZNAME:CDT
DTSTART:20240310T080000
END:DAYLIGHT
BEGIN:STANDARD
TZOFFSETFROM:-0500
TZOFFSETTO:-0600
TZNAME:CST
DTSTART:20241103T070000
END:STANDARD
BEGIN:DAYLIGHT
TZOFFSETFROM:-0600
TZOFFSETTO:-0500
TZNAME:CDT
DTSTART:20250309T080000
END:DAYLIGHT
BEGIN:STANDARD
TZOFFSETFROM:-0500
TZOFFSETTO:-0600
TZNAME:CST
DTSTART:20251102T070000
END:STANDARD
BEGIN:DAYLIGHT
TZOFFSETFROM:-0600
TZOFFSETTO:-0500
TZNAME:CDT
DTSTART:20260308T080000
END:DAYLIGHT
BEGIN:STANDARD
TZOFFSETFROM:-0500
TZOFFSETTO:-0600
TZNAME:CST
DTSTART:20261101T070000
END:STANDARD
END:VTIMEZONE
BEGIN:VEVENT
DTSTART;TZID=America/Chicago:20241203T163000
DTEND;TZID=America/Chicago:20241203T210000
DTSTAMP:20260421T112447
CREATED:20241124T012553Z
LAST-MODIFIED:20241124T012553Z
UID:10000180-1733243400-1733259600@www.rmsacademy.org
SUMMARY:Basketball Game vs. Chatfield (Home)
DESCRIPTION:
URL:https://www.rmsacademy.org/event/basketball-game-vs-chatfield-home/
LOCATION:Rochester Math and Science Academy\, 415 16th St SW\, Rochester\, 55902\, United States
CATEGORIES:Boys Basketball
END:VEVENT
BEGIN:VEVENT
DTSTART;TZID=America/Chicago:20241209T163000
DTEND;TZID=America/Chicago:20241209T203000
DTSTAMP:20260421T112447
CREATED:20241124T020337Z
LAST-MODIFIED:20241124T020337Z
UID:10000182-1733761800-1733776200@www.rmsacademy.org
SUMMARY:Basketball Game vs. Hmong College Prep Academy
DESCRIPTION:
URL:https://www.rmsacademy.org/event/basketball-game-vs-hmong-college-prep-academy/
CATEGORIES:Boys Basketball
END:VEVENT
BEGIN:VEVENT
DTSTART;TZID=America/Chicago:20241210T161600
DTEND;TZID=America/Chicago:20241210T203000
DTSTAMP:20260421T112447
CREATED:20241125T160320Z
LAST-MODIFIED:20241125T160320Z
UID:10000183-1733847360-1733862600@www.rmsacademy.org
SUMMARY:Basketball Game vs. Highland Park (Away)
DESCRIPTION:
URL:https://www.rmsacademy.org/event/basketball-game-vs-highland-park-away/
CATEGORIES:Boys Basketball
END:VEVENT
BEGIN:VEVENT
DTSTART;VALUE=DATE:20241216
DTEND;VALUE=DATE:20241217
DTSTAMP:20260421T112447
CREATED:20241124T014627Z
LAST-MODIFIED:20241124T014627Z
UID:10000181-1734307200-1734393599@www.rmsacademy.org
SUMMARY:PSEO Application Deadline-Spring Semester
DESCRIPTION:
URL:https://www.rmsacademy.org/event/pseo-application-deadline-spring-semester/
CATEGORIES:RCTC
END:VEVENT
BEGIN:VEVENT
DTSTART;VALUE=DATE:20241223
DTEND;VALUE=DATE:20250104
DTSTAMP:20260421T112447
CREATED:20240807T214041Z
LAST-MODIFIED:20240807T214041Z
UID:10000138-1734912000-1735948799@www.rmsacademy.org
SUMMARY:Winterbreak - No School
DESCRIPTION:
URL:https://www.rmsacademy.org/event/winterbreak-no-school-2024/
LOCATION:Rochester Math and Science Academy\, 415 16th St SW\, Rochester\, 55902\, United States
CATEGORIES:Academic Calendar,No School
END:VEVENT
END:VCALENDAR